BEGIN:VCALENDAR
PRODID:-//IONAS//TVM//DE
VERSION:2.0
CALSCALE:GREGORIAN
BEGIN:VTIMEZONE
TZID:Europe/Berlin
LAST-MODIFIED:20201010T011803Z
TZURL:http://tzurl.org/zoneinfo/Europe/Berlin
X-LIC-LOCATION:Europe/Berlin
X-PROLEPTIC-TZNAME:LMT
BEGIN:STANDARD
TZNAME:CET
TZOFFSETFROM:+005328
TZOFFSETTO:+0100
DTSTART:18930401T000000
END:STANDARD
BEGIN:DAYLIGHT
TZNAME:CEST
TZOFFSETFROM:+0100
TZOFFSETTO:+0200
DTSTART:19160430T230000
RDATE:19400401T020000
RDATE:19430329T020000
RDATE:19460414T020000
RDATE:19470406T030000
RDATE:19480418T020000
RDATE:19490410T020000
RDATE:19800406T020000
END:DAYLIGHT
BEGIN:STANDARD
TZNAME:CET
TZOFFSETFROM:+0200
TZOFFSETTO:+0100
DTSTART:19161001T010000
RDATE:19421102T030000
RDATE:19431004T030000
RDATE:19441002T030000
RDATE:19451118T030000
RDATE:19461007T030000
END:STANDARD
BEGIN:DAYLIGHT
TZNAME:CEST
TZOFFSETFROM:+0100
TZOFFSETTO:+0200
DTSTART:19170416T020000
RRULE:FREQ=YEARLY;UNTIL=19180415T010000Z;BYMONTH=4;BYDAY=3MO
END:DAYLIGHT
BEGIN:STANDARD
TZNAME:CET
TZOFFSETFROM:+0200
TZOFFSETTO:+0100
DTSTART:19170917T030000
RRULE:FREQ=YEARLY;UNTIL=19180916T010000Z;BYMONTH=9;BYDAY=3MO
END:STANDARD
BEGIN:DAYLIGHT
TZNAME:CEST
TZOFFSETFROM:+0100
TZOFFSETTO:+0200
DTSTART:19440403T020000
RRULE:FREQ=YEARLY;UNTIL=19450402T010000Z;BYMONTH=4;BYDAY=1MO
END:DAYLIGHT
BEGIN:DAYLIGHT
TZNAME:CEMT
TZOFFSETFROM:+0200
TZOFFSETTO:+0300
DTSTART:19450524T020000
RDATE:19470511T030000
END:DAYLIGHT
BEGIN:DAYLIGHT
TZNAME:CEST
TZOFFSETFROM:+0300
TZOFFSETTO:+0200
DTSTART:19450924T030000
RDATE:19470629T030000
END:DAYLIGHT
BEGIN:STANDARD
TZNAME:CET
TZOFFSETFROM:+0100
TZOFFSETTO:+0100
DTSTART:19460101T000000
RDATE:19800101T000000
END:STANDARD
BEGIN:STANDARD
TZNAME:CET
TZOFFSETFROM:+0200
TZOFFSETTO:+0100
DTSTART:19471005T030000
RRULE:FREQ=YEARLY;UNTIL=19491002T010000Z;BYMONTH=10;BYDAY=1SU
END:STANDARD
BEGIN:STANDARD
TZNAME:CET
TZOFFSETFROM:+0200
TZOFFSETTO:+0100
DTSTART:19800928T030000
RRULE:FREQ=YEARLY;UNTIL=19950924T010000Z;BYMONTH=9;BYDAY=-1SU
END:STANDARD
BEGIN:DAYLIGHT
TZNAME:CEST
TZOFFSETFROM:+0100
TZOFFSETTO:+0200
DTSTART:19810329T020000
RRULE:FREQ=YEARLY;BYMONTH=3;BYDAY=-1SU
END:DAYLIGHT
BEGIN:STANDARD
TZNAME:CET
TZOFFSETFROM:+0200
TZOFFSETTO:+0100
DTSTART:19961027T030000
RRULE:FREQ=YEARLY;BYMONTH=10;BYDAY=-1SU
END:STANDARD
END:VTIMEZONE
BEGIN:VEVENT
DTSTAMP:20260421T024336Z
DTSTART;TZID=Europe/Berlin:20260430T100000
DTEND;TZID=Europe/Berlin:20260430T113000
SUMMARY:Eltern-Kind-Kreis \,\,Schäfchentreff “ Nidda-Ulfa
CREATED:20260303T083213Z
LAST-MODIFIED:20260303T090114Z
DESCRIPTION:Eltern-Kind-Kreis „Schäfchentreff“ in Nidda-Ulfa\nEingeladen 
 sind alle Eltern mit Babys und Kleinkindern bis zum Kindergarteneintritt
 .\nBei unserem „Schäfchentreff“ singen wir miteinander\, spielen\, entde
 cken Gott und die Welt und stärken uns mit einem gemeinsamen Frühstück.\
 nDabei begleitet uns das Konzept „Von Anfang an“ und das kleine Schäfche
 n “Pauli“.\nEinmal im Monat gibt es einen „Auftankmorgen“ - die Mütterpa
 use\,\nmit Inputs und Diskussionen zu Alltagsthemen aus Familie und Erzi
 ehung.\n\nAnmeldung erforderlich unter Tel. 06043-405134 bei Katja Sang.
 \nVeranstalter: Ev. Gemeinschaft Ulfa e.V        www.eg-ulfa.de
LOCATION:Ev. Gemeinschaft Ulfa e.V
X-LOCATION-NAME:Ev. Gemeinschaft Ulfa e.V
X-POSTAL-CODE:63667
X-LOCALITY: Nidda-Ulfa
X-ORGANIZER-NAME:Ev. Gemeinschaft Ulfa e.V
ATTACH;FMTTYPE=image/png:https://www.nidda.de/kalender/2026/2026-03-05-el
 tern-kind-kreis-schaefchentreff-nidda-ulfa/screenshot-2026-03-03-094135.
 png?cid=1dvm.h1qm
UID:7735dd98-3e22-4a47-bde8-34b30e60294e:2026-04-30
END:VEVENT
END:VCALENDAR
