BEGIN:VCALENDAR
PRODID:-//Ben Fortuna//iCal4j 1.0//EN
VERSION:2.0
CALSCALE:GREGORIAN
BEGIN:VTIMEZONE
TZID:Europe/Berlin
LAST-MODIFIED:20201010T011803Z
TZURL:http://tzurl.org/zoneinfo/Europe/Berlin
X-LIC-LOCATION:Europe/Berlin
X-PROLEPTIC-TZNAME:LMT
BEGIN:STANDARD
TZNAME:CET
TZOFFSETFROM:+005328
TZOFFSETTO:+0100
DTSTART:18930401T000000
END:STANDARD
BEGIN:DAYLIGHT
TZNAME:CEST
TZOFFSETFROM:+0100
TZOFFSETTO:+0200
DTSTART:19160430T230000
RDATE:19400401T020000
RDATE:19430329T020000
RDATE:19460414T020000
RDATE:19470406T030000
RDATE:19480418T020000
RDATE:19490410T020000
RDATE:19800406T020000
END:DAYLIGHT
BEGIN:STANDARD
TZNAME:CET
TZOFFSETFROM:+0200
TZOFFSETTO:+0100
DTSTART:19161001T010000
RDATE:19421102T030000
RDATE:19431004T030000
RDATE:19441002T030000
RDATE:19451118T030000
RDATE:19461007T030000
END:STANDARD
BEGIN:DAYLIGHT
TZNAME:CEST
TZOFFSETFROM:+0100
TZOFFSETTO:+0200
DTSTART:19170416T020000
RRULE:FREQ=YEARLY;UNTIL=19180415T010000Z;BYMONTH=4;BYDAY=3MO
END:DAYLIGHT
BEGIN:STANDARD
TZNAME:CET
TZOFFSETFROM:+0200
TZOFFSETTO:+0100
DTSTART:19170917T030000
RRULE:FREQ=YEARLY;UNTIL=19180916T010000Z;BYMONTH=9;BYDAY=3MO
END:STANDARD
BEGIN:DAYLIGHT
TZNAME:CEST
TZOFFSETFROM:+0100
TZOFFSETTO:+0200
DTSTART:19440403T020000
RRULE:FREQ=YEARLY;UNTIL=19450402T010000Z;BYMONTH=4;BYDAY=1MO
END:DAYLIGHT
BEGIN:DAYLIGHT
TZNAME:CEMT
TZOFFSETFROM:+0200
TZOFFSETTO:+0300
DTSTART:19450524T020000
RDATE:19470511T030000
END:DAYLIGHT
BEGIN:DAYLIGHT
TZNAME:CEST
TZOFFSETFROM:+0300
TZOFFSETTO:+0200
DTSTART:19450924T030000
RDATE:19470629T030000
END:DAYLIGHT
BEGIN:STANDARD
TZNAME:CET
TZOFFSETFROM:+0100
TZOFFSETTO:+0100
DTSTART:19460101T000000
RDATE:19800101T000000
END:STANDARD
BEGIN:STANDARD
TZNAME:CET
TZOFFSETFROM:+0200
TZOFFSETTO:+0100
DTSTART:19471005T030000
RRULE:FREQ=YEARLY;UNTIL=19491002T010000Z;BYMONTH=10;BYDAY=1SU
END:STANDARD
BEGIN:STANDARD
TZNAME:CET
TZOFFSETFROM:+0200
TZOFFSETTO:+0100
DTSTART:19800928T030000
RRULE:FREQ=YEARLY;UNTIL=19950924T010000Z;BYMONTH=9;BYDAY=-1SU
END:STANDARD
BEGIN:DAYLIGHT
TZNAME:CEST
TZOFFSETFROM:+0100
TZOFFSETTO:+0200
DTSTART:19810329T020000
RRULE:FREQ=YEARLY;BYMONTH=3;BYDAY=-1SU
END:DAYLIGHT
BEGIN:STANDARD
TZNAME:CET
TZOFFSETFROM:+0200
TZOFFSETTO:+0100
DTSTART:19961027T030000
RRULE:FREQ=YEARLY;BYMONTH=10;BYDAY=-1SU
END:STANDARD
END:VTIMEZONE
BEGIN:VEVENT
DTSTAMP:20260422T020234Z
DTSTART;TZID=Europe/Berlin:20260110T143000
DTEND;TZID=Europe/Berlin:20260110T160000
SUMMARY:Tanzkreis in der Stadtbibliothek
CREATED:20260105T104343Z
LAST-MODIFIED:20260105T105206Z
DESCRIPTION:Tanzkreis 50plus - für alle Interessierten in Nidda und Umgeb
 ung. Einmal im Monat am zweiten Samstag des Monats von 14.30 - 16 Uhr in
  den Räumen der Stadtbibliothek Nidda mit Tanzpädagogin Inge Schneider. 
 Ruhiges und Fröhliches aus vielen Ländern und vielen Jahrhunderten. Mal 
 am Kreis\, mal in der Reihe. Partnerunabhängig\, jede und jeder Interess
 ierte ist als o auch einzeln herzlich Willkommen. Zum Bewegt-Bleiben ode
 r Wieder-In-Bewegung-Kommen. Mit wundervoller Musik\, viel Spaß und Schw
 ung\,\, ausreichend Pausen\, netten Begegnungen und guten Gesprächen zwi
 schendurch.\n\nKostenbeitrag: 5 Euro
LOCATION:Stadtbibliothek Nidda
X-LOCATION-NAME:Stadtbibliothek Nidda
X-STREET-ADDRESS:Krugsche Gasse 24
X-POSTAL-CODE:63667
X-LOCALITY:Nidda
X-ORGANIZER-NAME:Stadtbibliothek Nidda
RRULE:FREQ=MONTHLY;UNTIL=20260613;INTERVAL=1;BYDAY=SA;BYSETPOS=2
ATTACH;FMTTYPE=image/jpeg:https://www.nidda.de/kalender/2026/2026-1-quart
 al/2026-01-10-tanzkreis-in-der-stadtbibliothek/tanzkreis-fruehjahr.jpg?c
 id=1d1a.gl8v
UID:f4916c82-4ab5-45e1-a628-ba6dc9bcee31
END:VEVENT
END:VCALENDAR
