BEGIN:VCALENDAR
PRODID:-//Ben Fortuna//iCal4j 1.0//EN
VERSION:2.0
CALSCALE:GREGORIAN
BEGIN:VTIMEZONE
TZID:Europe/Berlin
LAST-MODIFIED:20201010T011803Z
TZURL:http://tzurl.org/zoneinfo/Europe/Berlin
X-LIC-LOCATION:Europe/Berlin
X-PROLEPTIC-TZNAME:LMT
BEGIN:STANDARD
TZNAME:CET
TZOFFSETFROM:+005328
TZOFFSETTO:+0100
DTSTART:18930401T000000
END:STANDARD
BEGIN:DAYLIGHT
TZNAME:CEST
TZOFFSETFROM:+0100
TZOFFSETTO:+0200
DTSTART:19160430T230000
RDATE:19400401T020000
RDATE:19430329T020000
RDATE:19460414T020000
RDATE:19470406T030000
RDATE:19480418T020000
RDATE:19490410T020000
RDATE:19800406T020000
END:DAYLIGHT
BEGIN:STANDARD
TZNAME:CET
TZOFFSETFROM:+0200
TZOFFSETTO:+0100
DTSTART:19161001T010000
RDATE:19421102T030000
RDATE:19431004T030000
RDATE:19441002T030000
RDATE:19451118T030000
RDATE:19461007T030000
END:STANDARD
BEGIN:DAYLIGHT
TZNAME:CEST
TZOFFSETFROM:+0100
TZOFFSETTO:+0200
DTSTART:19170416T020000
RRULE:FREQ=YEARLY;UNTIL=19180415T010000Z;BYMONTH=4;BYDAY=3MO
END:DAYLIGHT
BEGIN:STANDARD
TZNAME:CET
TZOFFSETFROM:+0200
TZOFFSETTO:+0100
DTSTART:19170917T030000
RRULE:FREQ=YEARLY;UNTIL=19180916T010000Z;BYMONTH=9;BYDAY=3MO
END:STANDARD
BEGIN:DAYLIGHT
TZNAME:CEST
TZOFFSETFROM:+0100
TZOFFSETTO:+0200
DTSTART:19440403T020000
RRULE:FREQ=YEARLY;UNTIL=19450402T010000Z;BYMONTH=4;BYDAY=1MO
END:DAYLIGHT
BEGIN:DAYLIGHT
TZNAME:CEMT
TZOFFSETFROM:+0200
TZOFFSETTO:+0300
DTSTART:19450524T020000
RDATE:19470511T030000
END:DAYLIGHT
BEGIN:DAYLIGHT
TZNAME:CEST
TZOFFSETFROM:+0300
TZOFFSETTO:+0200
DTSTART:19450924T030000
RDATE:19470629T030000
END:DAYLIGHT
BEGIN:STANDARD
TZNAME:CET
TZOFFSETFROM:+0100
TZOFFSETTO:+0100
DTSTART:19460101T000000
RDATE:19800101T000000
END:STANDARD
BEGIN:STANDARD
TZNAME:CET
TZOFFSETFROM:+0200
TZOFFSETTO:+0100
DTSTART:19471005T030000
RRULE:FREQ=YEARLY;UNTIL=19491002T010000Z;BYMONTH=10;BYDAY=1SU
END:STANDARD
BEGIN:STANDARD
TZNAME:CET
TZOFFSETFROM:+0200
TZOFFSETTO:+0100
DTSTART:19800928T030000
RRULE:FREQ=YEARLY;UNTIL=19950924T010000Z;BYMONTH=9;BYDAY=-1SU
END:STANDARD
BEGIN:DAYLIGHT
TZNAME:CEST
TZOFFSETFROM:+0100
TZOFFSETTO:+0200
DTSTART:19810329T020000
RRULE:FREQ=YEARLY;BYMONTH=3;BYDAY=-1SU
END:DAYLIGHT
BEGIN:STANDARD
TZNAME:CET
TZOFFSETFROM:+0200
TZOFFSETTO:+0100
DTSTART:19961027T030000
RRULE:FREQ=YEARLY;BYMONTH=10;BYDAY=-1SU
END:STANDARD
END:VTIMEZONE
BEGIN:VEVENT
DTSTAMP:20260421T175606Z
DTSTART;TZID=Europe/Berlin:20260114T170000
DTEND;TZID=Europe/Berlin:20260114T183000
SUMMARY:Shared Reading in der Stadtbibliothek  
CREATED:20260105T111950Z
LAST-MODIFIED:20260319T143724Z
DESCRIPTION:Gemeinsam Lesen - Einmal pro Monat Mittwochs von 17 - 18.30 U
 hr\n\nKeine Anmeldung notwendig.\n\nDie Idee von Shared Reading kommt au
 s England. Erlebe\, wie Geschichten verbinden: Wir lesen gemeinsam\, tau
 schen Gedanken aus - ganz ohne Vorwissen\, einfach mitten ins Gespräch.\
 n\nTermine:\n\n14. Januar\n\n11. Februar\n\n15. April\n\n20. Mai\n\n17. 
 Juni
LOCATION:Stadtbibliothek Nidda
X-LOCATION-NAME:Stadtbibliothek Nidda
X-STREET-ADDRESS:Krugsche Gasse 24
X-POSTAL-CODE:63667
X-LOCALITY:Nidda
X-ORGANIZER-NAME:Stadtbibliothek Nidda
RRULE:FREQ=MONTHLY;UNTIL=20260617;INTERVAL=1;BYDAY=WE;BYSETPOS=2
ATTACH;FMTTYPE=image/jpeg:https://www.nidda.de/kalender/2026/2026-1-quart
 al/2026-01-14-shared-reading-in-der-stadtbibliothek/shared-reading-frueh
 jahr.jpg?cid=1d1m.gl9g
UID:4e45eeb4-0668-4857-9d3c-d22f844ba330
END:VEVENT
BEGIN:VEVENT
DTSTAMP:20260421T175606Z
DTSTART;TZID=Europe/Berlin:20260318T170000
DTEND;TZID=Europe/Berlin:20260318T183000
SUMMARY:Shared Reading in der Stadtbibliothek
CREATED:20260105T111950Z
LAST-MODIFIED:20260319T143724Z
DESCRIPTION:Gemeinsam Lesen - Einmal pro Monat Mittwochs von 17 - 18.30 U
 hr\n\nKeine Anmeldung notwendig.\n\nDie Idee von Shared Reading kommt au
 s England. Erlebe\, wie Geschichten verbinden: Wir lesen gemeinsam\, tau
 schen Gedanken aus - ganz ohne Vorwissen\, einfach mitten ins Gespräch.\
 n\nTermine:\n\n14. Januar\n\n11. Februar\n\n15. April\n\n20. Mai\n\n17. 
 Juni
LOCATION:Stadtbibliothek Nidda
X-LOCATION-NAME:Stadtbibliothek Nidda
X-STREET-ADDRESS:Krugsche Gasse 24
X-POSTAL-CODE:63667
X-LOCALITY:Nidda
X-ORGANIZER-NAME:Stadtbibliothek Nidda
ATTACH;FMTTYPE=image/jpeg:https://www.nidda.de/kalender/2026/2026-1-quart
 al/2026-01-14-shared-reading-in-der-stadtbibliothek/shared-reading-frueh
 jahr.jpg?cid=1d1m.gl9g
UID:4e45eeb4-0668-4857-9d3c-d22f844ba330
RECURRENCE-ID;TZID=Europe/Berlin:20260311T170000
END:VEVENT
BEGIN:VEVENT
DTSTAMP:20260421T175606Z
DTSTART;TZID=Europe/Berlin:20260415T170000
DTEND;TZID=Europe/Berlin:20260415T183000
SUMMARY:Shared Reading in der Stadtbibliothek
CREATED:20260105T111950Z
LAST-MODIFIED:20260319T143724Z
DESCRIPTION:Gemeinsam Lesen - Einmal pro Monat Mittwochs von 17 - 18.30 U
 hr\n\nKeine Anmeldung notwendig.\n\nDie Idee von Shared Reading kommt au
 s England. Erlebe\, wie Geschichten verbinden: Wir lesen gemeinsam\, tau
 schen Gedanken aus - ganz ohne Vorwissen\, einfach mitten ins Gespräch.\
 n\nTermine:\n\n14. Januar\n\n11. Februar\n\n15. April\n\n20. Mai\n\n17. 
 Juni
LOCATION:Stadtbibliothek Nidda
X-LOCATION-NAME:Stadtbibliothek Nidda
X-STREET-ADDRESS:Krugsche Gasse 24
X-POSTAL-CODE:63667
X-LOCALITY:Nidda
X-ORGANIZER-NAME:Stadtbibliothek Nidda
ATTACH;FMTTYPE=image/jpeg:https://www.nidda.de/kalender/2026/2026-1-quart
 al/2026-01-14-shared-reading-in-der-stadtbibliothek/shared-reading-frueh
 jahr.jpg?cid=1d1m.gl9g
UID:4e45eeb4-0668-4857-9d3c-d22f844ba330
RECURRENCE-ID;TZID=Europe/Berlin:20260408T170000
END:VEVENT
BEGIN:VEVENT
DTSTAMP:20260421T175606Z
DTSTART;TZID=Europe/Berlin:20260520T170000
DTEND;TZID=Europe/Berlin:20260520T183000
SUMMARY:Shared Reading in der Stadtbibliothek
CREATED:20260105T111950Z
LAST-MODIFIED:20260319T143724Z
DESCRIPTION:Gemeinsam Lesen - Einmal pro Monat Mittwochs von 17 - 18.30 U
 hr\n\nKeine Anmeldung notwendig.\n\nDie Idee von Shared Reading kommt au
 s England. Erlebe\, wie Geschichten verbinden: Wir lesen gemeinsam\, tau
 schen Gedanken aus - ganz ohne Vorwissen\, einfach mitten ins Gespräch.\
 n\nTermine:\n\n14. Januar\n\n11. Februar\n\n15. April\n\n20. Mai\n\n17. 
 Juni
LOCATION:Stadtbibliothek Nidda
X-LOCATION-NAME:Stadtbibliothek Nidda
X-STREET-ADDRESS:Krugsche Gasse 24
X-POSTAL-CODE:63667
X-LOCALITY:Nidda
X-ORGANIZER-NAME:Stadtbibliothek Nidda
ATTACH;FMTTYPE=image/jpeg:https://www.nidda.de/kalender/2026/2026-1-quart
 al/2026-01-14-shared-reading-in-der-stadtbibliothek/shared-reading-frueh
 jahr.jpg?cid=1d1m.gl9g
UID:4e45eeb4-0668-4857-9d3c-d22f844ba330
RECURRENCE-ID;TZID=Europe/Berlin:20260513T170000
END:VEVENT
BEGIN:VEVENT
DTSTAMP:20260421T175606Z
DTSTART;TZID=Europe/Berlin:20260617T170000
DTEND;TZID=Europe/Berlin:20260617T183000
SUMMARY:Shared Reading in der Stadtbibliothek
CREATED:20260105T111950Z
LAST-MODIFIED:20260319T143724Z
DESCRIPTION:Gemeinsam Lesen - Einmal pro Monat Mittwochs von 17 - 18.30 U
 hr\n\nKeine Anmeldung notwendig.\n\nDie Idee von Shared Reading kommt au
 s England. Erlebe\, wie Geschichten verbinden: Wir lesen gemeinsam\, tau
 schen Gedanken aus - ganz ohne Vorwissen\, einfach mitten ins Gespräch.\
 n\nTermine:\n\n14. Januar\n\n11. Februar\n\n15. April\n\n20. Mai\n\n17. 
 Juni
LOCATION:Stadtbibliothek Nidda
X-LOCATION-NAME:Stadtbibliothek Nidda
X-STREET-ADDRESS:Krugsche Gasse 24
X-POSTAL-CODE:63667
X-LOCALITY:Nidda
X-ORGANIZER-NAME:Stadtbibliothek Nidda
ATTACH;FMTTYPE=image/jpeg:https://www.nidda.de/kalender/2026/2026-1-quart
 al/2026-01-14-shared-reading-in-der-stadtbibliothek/shared-reading-frueh
 jahr.jpg?cid=1d1m.gl9g
UID:4e45eeb4-0668-4857-9d3c-d22f844ba330
RECURRENCE-ID;TZID=Europe/Berlin:20260610T170000
END:VEVENT
END:VCALENDAR
