BEGIN:VCALENDAR
PRODID:-//IONAS//TVM//DE
VERSION:2.0
CALSCALE:GREGORIAN
BEGIN:VTIMEZONE
TZID:Europe/Berlin
LAST-MODIFIED:20201010T011803Z
TZURL:http://tzurl.org/zoneinfo/Europe/Berlin
X-LIC-LOCATION:Europe/Berlin
X-PROLEPTIC-TZNAME:LMT
BEGIN:STANDARD
TZNAME:CET
TZOFFSETFROM:+005328
TZOFFSETTO:+0100
DTSTART:18930401T000000
END:STANDARD
BEGIN:DAYLIGHT
TZNAME:CEST
TZOFFSETFROM:+0100
TZOFFSETTO:+0200
DTSTART:19160430T230000
RDATE:19400401T020000
RDATE:19430329T020000
RDATE:19460414T020000
RDATE:19470406T030000
RDATE:19480418T020000
RDATE:19490410T020000
RDATE:19800406T020000
END:DAYLIGHT
BEGIN:STANDARD
TZNAME:CET
TZOFFSETFROM:+0200
TZOFFSETTO:+0100
DTSTART:19161001T010000
RDATE:19421102T030000
RDATE:19431004T030000
RDATE:19441002T030000
RDATE:19451118T030000
RDATE:19461007T030000
END:STANDARD
BEGIN:DAYLIGHT
TZNAME:CEST
TZOFFSETFROM:+0100
TZOFFSETTO:+0200
DTSTART:19170416T020000
RRULE:FREQ=YEARLY;UNTIL=19180415T010000Z;BYMONTH=4;BYDAY=3MO
END:DAYLIGHT
BEGIN:STANDARD
TZNAME:CET
TZOFFSETFROM:+0200
TZOFFSETTO:+0100
DTSTART:19170917T030000
RRULE:FREQ=YEARLY;UNTIL=19180916T010000Z;BYMONTH=9;BYDAY=3MO
END:STANDARD
BEGIN:DAYLIGHT
TZNAME:CEST
TZOFFSETFROM:+0100
TZOFFSETTO:+0200
DTSTART:19440403T020000
RRULE:FREQ=YEARLY;UNTIL=19450402T010000Z;BYMONTH=4;BYDAY=1MO
END:DAYLIGHT
BEGIN:DAYLIGHT
TZNAME:CEMT
TZOFFSETFROM:+0200
TZOFFSETTO:+0300
DTSTART:19450524T020000
RDATE:19470511T030000
END:DAYLIGHT
BEGIN:DAYLIGHT
TZNAME:CEST
TZOFFSETFROM:+0300
TZOFFSETTO:+0200
DTSTART:19450924T030000
RDATE:19470629T030000
END:DAYLIGHT
BEGIN:STANDARD
TZNAME:CET
TZOFFSETFROM:+0100
TZOFFSETTO:+0100
DTSTART:19460101T000000
RDATE:19800101T000000
END:STANDARD
BEGIN:STANDARD
TZNAME:CET
TZOFFSETFROM:+0200
TZOFFSETTO:+0100
DTSTART:19471005T030000
RRULE:FREQ=YEARLY;UNTIL=19491002T010000Z;BYMONTH=10;BYDAY=1SU
END:STANDARD
BEGIN:STANDARD
TZNAME:CET
TZOFFSETFROM:+0200
TZOFFSETTO:+0100
DTSTART:19800928T030000
RRULE:FREQ=YEARLY;UNTIL=19950924T010000Z;BYMONTH=9;BYDAY=-1SU
END:STANDARD
BEGIN:DAYLIGHT
TZNAME:CEST
TZOFFSETFROM:+0100
TZOFFSETTO:+0200
DTSTART:19810329T020000
RRULE:FREQ=YEARLY;BYMONTH=3;BYDAY=-1SU
END:DAYLIGHT
BEGIN:STANDARD
TZNAME:CET
TZOFFSETFROM:+0200
TZOFFSETTO:+0100
DTSTART:19961027T030000
RRULE:FREQ=YEARLY;BYMONTH=10;BYDAY=-1SU
END:STANDARD
END:VTIMEZONE
BEGIN:VEVENT
DTSTAMP:20260421T163152Z
DTSTART;TZID=Europe/Berlin:20260607T140000
DTEND;TZID=Europe/Berlin:20260607T153000
SUMMARY:Führung durch den Skulpturenpark
CREATED:20251204T112247Z
LAST-MODIFIED:20260224T111813Z
DESCRIPTION:Ein sehenswerter Rundgang entlang der Skulpturen im Oberen Ku
 rpark wird vom Verein Kunst:Projekt e.V. Nidda – Bad Salzhausen regelmäß
 ig angeboten. Die Kunstwerke werden kompetent\, ansprechend und zu Frage
 n einladend vorgestellt. Im Fokus stehen auch die seit August neuen Expo
 nate auf dem Gelände. \n\nTreffpunkt: am Parksaal\, Im Park\, 63667 Nidd
 a - Bad Salzhausen\n\n\nTeilnehmerzahl: ab 5 Personen\n\n\nKosten: 7\,00
  € pro Person (6\,00 € mit Kurkarte)\n\n\nAnmeldung: nicht erforderlich 
 (Gruppen auf Anfrage)\n\n\nKontakt: Matthias Weidmann\, Tel. 06043 80176
 2
LOCATION:Parksaal 
X-LOCATION-NAME:Parksaal 
X-POSTAL-CODE:63667
X-LOCALITY:Nidda - Bad Salzhausen
X-ORGANIZER-NAME:Kunst:Projekt e.V. Nidda - Bad Salzhausen
X-ORGANIZER-WEBSITE:http://www.kunst-projekt.de/
X-IONAS-CATEGORY:Highlight
CATEGORIES:Highlight,Führung
ATTACH;FMTTYPE=image/jpeg;X-COPYRIGHT=Stadt Nidda:https://www.nidda.de/ku
 ltur/feste-mehr/themenfuehrungen/skulptur.jpg?cid=qqa.4frv
UID:67c0cf32-b177-49ec-a3ee-645e8b72bb44:2026-06-07
END:VEVENT
END:VCALENDAR
