BEGIN:VCALENDAR
PRODID:-//Ben Fortuna//iCal4j 1.0//EN
VERSION:2.0
CALSCALE:GREGORIAN
BEGIN:VTIMEZONE
TZID:Europe/Berlin
LAST-MODIFIED:20201010T011803Z
TZURL:http://tzurl.org/zoneinfo/Europe/Berlin
X-LIC-LOCATION:Europe/Berlin
X-PROLEPTIC-TZNAME:LMT
BEGIN:STANDARD
TZNAME:CET
TZOFFSETFROM:+005328
TZOFFSETTO:+0100
DTSTART:18930401T000000
END:STANDARD
BEGIN:DAYLIGHT
TZNAME:CEST
TZOFFSETFROM:+0100
TZOFFSETTO:+0200
DTSTART:19160430T230000
RDATE:19400401T020000
RDATE:19430329T020000
RDATE:19460414T020000
RDATE:19470406T030000
RDATE:19480418T020000
RDATE:19490410T020000
RDATE:19800406T020000
END:DAYLIGHT
BEGIN:STANDARD
TZNAME:CET
TZOFFSETFROM:+0200
TZOFFSETTO:+0100
DTSTART:19161001T010000
RDATE:19421102T030000
RDATE:19431004T030000
RDATE:19441002T030000
RDATE:19451118T030000
RDATE:19461007T030000
END:STANDARD
BEGIN:DAYLIGHT
TZNAME:CEST
TZOFFSETFROM:+0100
TZOFFSETTO:+0200
DTSTART:19170416T020000
RRULE:FREQ=YEARLY;UNTIL=19180415T010000Z;BYMONTH=4;BYDAY=3MO
END:DAYLIGHT
BEGIN:STANDARD
TZNAME:CET
TZOFFSETFROM:+0200
TZOFFSETTO:+0100
DTSTART:19170917T030000
RRULE:FREQ=YEARLY;UNTIL=19180916T010000Z;BYMONTH=9;BYDAY=3MO
END:STANDARD
BEGIN:DAYLIGHT
TZNAME:CEST
TZOFFSETFROM:+0100
TZOFFSETTO:+0200
DTSTART:19440403T020000
RRULE:FREQ=YEARLY;UNTIL=19450402T010000Z;BYMONTH=4;BYDAY=1MO
END:DAYLIGHT
BEGIN:DAYLIGHT
TZNAME:CEMT
TZOFFSETFROM:+0200
TZOFFSETTO:+0300
DTSTART:19450524T020000
RDATE:19470511T030000
END:DAYLIGHT
BEGIN:DAYLIGHT
TZNAME:CEST
TZOFFSETFROM:+0300
TZOFFSETTO:+0200
DTSTART:19450924T030000
RDATE:19470629T030000
END:DAYLIGHT
BEGIN:STANDARD
TZNAME:CET
TZOFFSETFROM:+0100
TZOFFSETTO:+0100
DTSTART:19460101T000000
RDATE:19800101T000000
END:STANDARD
BEGIN:STANDARD
TZNAME:CET
TZOFFSETFROM:+0200
TZOFFSETTO:+0100
DTSTART:19471005T030000
RRULE:FREQ=YEARLY;UNTIL=19491002T010000Z;BYMONTH=10;BYDAY=1SU
END:STANDARD
BEGIN:STANDARD
TZNAME:CET
TZOFFSETFROM:+0200
TZOFFSETTO:+0100
DTSTART:19800928T030000
RRULE:FREQ=YEARLY;UNTIL=19950924T010000Z;BYMONTH=9;BYDAY=-1SU
END:STANDARD
BEGIN:DAYLIGHT
TZNAME:CEST
TZOFFSETFROM:+0100
TZOFFSETTO:+0200
DTSTART:19810329T020000
RRULE:FREQ=YEARLY;BYMONTH=3;BYDAY=-1SU
END:DAYLIGHT
BEGIN:STANDARD
TZNAME:CET
TZOFFSETFROM:+0200
TZOFFSETTO:+0100
DTSTART:19961027T030000
RRULE:FREQ=YEARLY;BYMONTH=10;BYDAY=-1SU
END:STANDARD
END:VTIMEZONE
BEGIN:VEVENT
DTSTAMP:20260421T134136Z
DTSTART;TZID=Europe/Berlin:20260317T150000
DTEND;TZID=Europe/Berlin:20260317T173000
SUMMARY:Wilde Waldlinge
CREATED:20251204T113040Z
LAST-MODIFIED:20251204T113843Z
DESCRIPTION:Abenteuer im Wald. Erlebnisreiche Outdoor-Workshops für Kinde
 r von 7-12 Jahren: Laubhütten bauen\, Bachläufe erkunden\, Spuren lesen\
 , Orientierung lernen\, Kräuter sammeln\, Vogelstimmen lauschen\, kreati
 ves und spielerisches Gestalten mit Kopf\, Herz und Händen. Dauer: 2\,5 
 Stunden. \n\nTreffpunkt: Kur- und Touristik-Info\, Bad Salzhausen\n\n\nK
 ostenbeitrag: 20\,00 Euro/Kind \n\nAnmeldung: Stefanie Merkl\, Tel. 0156
  797 080 51 oder Mail: info@wildewaldlinge.de. 
LOCATION:Kur- und Touristik-Info 
X-LOCATION-NAME:Kur- und Touristik-Info 
X-POSTAL-CODE:63667
X-LOCALITY:Nidda - Bad Salzhausen
X-ORGANIZER-NAME:Kur- und Touristik-Info
RRULE:FREQ=MONTHLY;UNTIL=20261020;INTERVAL=1;BYDAY=TU;BYSETPOS=3
CATEGORIES:Führung
ATTACH;FMTTYPE=image/jpeg;X-COPYRIGHT=Magistrat der Stadt Nidda:https://w
 ww.nidda.de/kultur/feste-mehr/themenfuehrungen/kinder-entdecken-die-natu
 r.jpg?cid=427.1827
UID:b9e399b1-4991-4ea8-a8ef-30ab6d4f895b
END:VEVENT
BEGIN:VEVENT
DTSTAMP:20260421T134136Z
DTSTART;TZID=Europe/Berlin:20260414T150000
DTEND;TZID=Europe/Berlin:20260414T173000
SUMMARY:Wilde Waldlinge
CREATED:20251204T113040Z
LAST-MODIFIED:20251204T113843Z
DESCRIPTION:Abenteuer im Wald. Erlebnisreiche Outdoor-Workshops für Kinde
 r von 7-12 Jahren: Laubhütten bauen\, Bachläufe erkunden\, Spuren lesen\
 , Orientierung lernen\, Kräuter sammeln\, Vogelstimmen lauschen\, kreati
 ves und spielerisches Gestalten mit Kopf\, Herz und Händen. Dauer: 2\,5 
 Stunden. \n\nTreffpunkt: Kur- und Touristik-Info\, Bad Salzhausen\n\n\nK
 ostenbeitrag: 20\,00 Euro/Kind \n\nAnmeldung: Stefanie Merkl\, Tel. 0156
  797 080 51 oder Mail: info@wildewaldlinge.de. 
LOCATION:Kur- und Touristik-Info 
X-LOCATION-NAME:Kur- und Touristik-Info 
X-POSTAL-CODE:63667
X-LOCALITY:Nidda - Bad Salzhausen
X-ORGANIZER-NAME:Kur- und Touristik-Info
CATEGORIES:Führung
ATTACH;FMTTYPE=image/jpeg;X-COPYRIGHT=Magistrat der Stadt Nidda:https://w
 ww.nidda.de/kultur/feste-mehr/themenfuehrungen/kinder-entdecken-die-natu
 r.jpg?cid=427.1827
UID:b9e399b1-4991-4ea8-a8ef-30ab6d4f895b
RECURRENCE-ID;TZID=Europe/Berlin:20260421T150000
END:VEVENT
BEGIN:VEVENT
DTSTAMP:20260421T134136Z
DTSTART;TZID=Europe/Berlin:20260623T150000
DTEND;TZID=Europe/Berlin:20260623T173000
SUMMARY:Wilde Waldlinge
CREATED:20251204T113040Z
LAST-MODIFIED:20251204T113843Z
DESCRIPTION:Abenteuer im Wald. Erlebnisreiche Outdoor-Workshops für Kinde
 r von 7-12 Jahren: Laubhütten bauen\, Bachläufe erkunden\, Spuren lesen\
 , Orientierung lernen\, Kräuter sammeln\, Vogelstimmen lauschen\, kreati
 ves und spielerisches Gestalten mit Kopf\, Herz und Händen. Dauer: 2\,5 
 Stunden. \n\nTreffpunkt: Kur- und Touristik-Info\, Bad Salzhausen\n\n\nK
 ostenbeitrag: 20\,00 Euro/Kind \n\nAnmeldung: Stefanie Merkl\, Tel. 0156
  797 080 51 oder Mail: info@wildewaldlinge.de. 
LOCATION:Kur- und Touristik-Info 
X-LOCATION-NAME:Kur- und Touristik-Info 
X-POSTAL-CODE:63667
X-LOCALITY:Nidda - Bad Salzhausen
X-ORGANIZER-NAME:Kur- und Touristik-Info
CATEGORIES:Führung
ATTACH;FMTTYPE=image/jpeg;X-COPYRIGHT=Magistrat der Stadt Nidda:https://w
 ww.nidda.de/kultur/feste-mehr/themenfuehrungen/kinder-entdecken-die-natu
 r.jpg?cid=427.1827
UID:b9e399b1-4991-4ea8-a8ef-30ab6d4f895b
RECURRENCE-ID;TZID=Europe/Berlin:20260616T150000
END:VEVENT
BEGIN:VEVENT
DTSTAMP:20260421T134136Z
DTSTART;TZID=Europe/Berlin:20260728T150000
DTEND;TZID=Europe/Berlin:20260728T173000
SUMMARY:Wilde Waldlinge
CREATED:20251204T113040Z
LAST-MODIFIED:20251204T113843Z
DESCRIPTION:Abenteuer im Wald. Erlebnisreiche Outdoor-Workshops für Kinde
 r von 7-12 Jahren: Laubhütten bauen\, Bachläufe erkunden\, Spuren lesen\
 , Orientierung lernen\, Kräuter sammeln\, Vogelstimmen lauschen\, kreati
 ves und spielerisches Gestalten mit Kopf\, Herz und Händen. Dauer: 2\,5 
 Stunden. \n\nTreffpunkt: Kur- und Touristik-Info\, Bad Salzhausen\n\n\nK
 ostenbeitrag: 20\,00 Euro/Kind \n\nAnmeldung: Stefanie Merkl\, Tel. 0156
  797 080 51 oder Mail: info@wildewaldlinge.de. 
LOCATION:Kur- und Touristik-Info 
X-LOCATION-NAME:Kur- und Touristik-Info 
X-POSTAL-CODE:63667
X-LOCALITY:Nidda - Bad Salzhausen
X-ORGANIZER-NAME:Kur- und Touristik-Info
CATEGORIES:Führung
ATTACH;FMTTYPE=image/jpeg;X-COPYRIGHT=Magistrat der Stadt Nidda:https://w
 ww.nidda.de/kultur/feste-mehr/themenfuehrungen/kinder-entdecken-die-natu
 r.jpg?cid=427.1827
UID:b9e399b1-4991-4ea8-a8ef-30ab6d4f895b
RECURRENCE-ID;TZID=Europe/Berlin:20260721T150000
END:VEVENT
BEGIN:VEVENT
DTSTAMP:20260421T134136Z
DTSTART;TZID=Europe/Berlin:20260825T150000
DTEND;TZID=Europe/Berlin:20260825T173000
SUMMARY:Wilde Waldlinge
CREATED:20251204T113040Z
LAST-MODIFIED:20251204T113843Z
DESCRIPTION:Abenteuer im Wald. Erlebnisreiche Outdoor-Workshops für Kinde
 r von 7-12 Jahren: Laubhütten bauen\, Bachläufe erkunden\, Spuren lesen\
 , Orientierung lernen\, Kräuter sammeln\, Vogelstimmen lauschen\, kreati
 ves und spielerisches Gestalten mit Kopf\, Herz und Händen. Dauer: 2\,5 
 Stunden. \n\nTreffpunkt: Kur- und Touristik-Info\, Bad Salzhausen\n\n\nK
 ostenbeitrag: 20\,00 Euro/Kind \n\nAnmeldung: Stefanie Merkl\, Tel. 0156
  797 080 51 oder Mail: info@wildewaldlinge.de. 
LOCATION:Kur- und Touristik-Info 
X-LOCATION-NAME:Kur- und Touristik-Info 
X-POSTAL-CODE:63667
X-LOCALITY:Nidda - Bad Salzhausen
X-ORGANIZER-NAME:Kur- und Touristik-Info
CATEGORIES:Führung
ATTACH;FMTTYPE=image/jpeg;X-COPYRIGHT=Magistrat der Stadt Nidda:https://w
 ww.nidda.de/kultur/feste-mehr/themenfuehrungen/kinder-entdecken-die-natu
 r.jpg?cid=427.1827
UID:b9e399b1-4991-4ea8-a8ef-30ab6d4f895b
RECURRENCE-ID;TZID=Europe/Berlin:20260818T150000
END:VEVENT
BEGIN:VEVENT
DTSTAMP:20260421T134136Z
DTSTART;TZID=Europe/Berlin:20260922T150000
DTEND;TZID=Europe/Berlin:20260922T173000
SUMMARY:Wilde Waldlinge
CREATED:20251204T113040Z
LAST-MODIFIED:20251204T113843Z
DESCRIPTION:Abenteuer im Wald. Erlebnisreiche Outdoor-Workshops für Kinde
 r von 7-12 Jahren: Laubhütten bauen\, Bachläufe erkunden\, Spuren lesen\
 , Orientierung lernen\, Kräuter sammeln\, Vogelstimmen lauschen\, kreati
 ves und spielerisches Gestalten mit Kopf\, Herz und Händen. Dauer: 2\,5 
 Stunden. \n\nTreffpunkt: Kur- und Touristik-Info\, Bad Salzhausen\n\n\nK
 ostenbeitrag: 20\,00 Euro/Kind \n\nAnmeldung: Stefanie Merkl\, Tel. 0156
  797 080 51 oder Mail: info@wildewaldlinge.de. 
LOCATION:Kur- und Touristik-Info 
X-LOCATION-NAME:Kur- und Touristik-Info 
X-POSTAL-CODE:63667
X-LOCALITY:Nidda - Bad Salzhausen
X-ORGANIZER-NAME:Kur- und Touristik-Info
CATEGORIES:Führung
ATTACH;FMTTYPE=image/jpeg;X-COPYRIGHT=Magistrat der Stadt Nidda:https://w
 ww.nidda.de/kultur/feste-mehr/themenfuehrungen/kinder-entdecken-die-natu
 r.jpg?cid=427.1827
UID:b9e399b1-4991-4ea8-a8ef-30ab6d4f895b
RECURRENCE-ID;TZID=Europe/Berlin:20260915T150000
END:VEVENT
END:VCALENDAR
