BEGIN:VCALENDAR
PRODID:-//Ben Fortuna//iCal4j 1.0//EN
VERSION:2.0
CALSCALE:GREGORIAN
BEGIN:VTIMEZONE
TZID:Europe/Berlin
LAST-MODIFIED:20201010T011803Z
TZURL:http://tzurl.org/zoneinfo/Europe/Berlin
X-LIC-LOCATION:Europe/Berlin
X-PROLEPTIC-TZNAME:LMT
BEGIN:STANDARD
TZNAME:CET
TZOFFSETFROM:+005328
TZOFFSETTO:+0100
DTSTART:18930401T000000
END:STANDARD
BEGIN:DAYLIGHT
TZNAME:CEST
TZOFFSETFROM:+0100
TZOFFSETTO:+0200
DTSTART:19160430T230000
RDATE:19400401T020000
RDATE:19430329T020000
RDATE:19460414T020000
RDATE:19470406T030000
RDATE:19480418T020000
RDATE:19490410T020000
RDATE:19800406T020000
END:DAYLIGHT
BEGIN:STANDARD
TZNAME:CET
TZOFFSETFROM:+0200
TZOFFSETTO:+0100
DTSTART:19161001T010000
RDATE:19421102T030000
RDATE:19431004T030000
RDATE:19441002T030000
RDATE:19451118T030000
RDATE:19461007T030000
END:STANDARD
BEGIN:DAYLIGHT
TZNAME:CEST
TZOFFSETFROM:+0100
TZOFFSETTO:+0200
DTSTART:19170416T020000
RRULE:FREQ=YEARLY;UNTIL=19180415T010000Z;BYMONTH=4;BYDAY=3MO
END:DAYLIGHT
BEGIN:STANDARD
TZNAME:CET
TZOFFSETFROM:+0200
TZOFFSETTO:+0100
DTSTART:19170917T030000
RRULE:FREQ=YEARLY;UNTIL=19180916T010000Z;BYMONTH=9;BYDAY=3MO
END:STANDARD
BEGIN:DAYLIGHT
TZNAME:CEST
TZOFFSETFROM:+0100
TZOFFSETTO:+0200
DTSTART:19440403T020000
RRULE:FREQ=YEARLY;UNTIL=19450402T010000Z;BYMONTH=4;BYDAY=1MO
END:DAYLIGHT
BEGIN:DAYLIGHT
TZNAME:CEMT
TZOFFSETFROM:+0200
TZOFFSETTO:+0300
DTSTART:19450524T020000
RDATE:19470511T030000
END:DAYLIGHT
BEGIN:DAYLIGHT
TZNAME:CEST
TZOFFSETFROM:+0300
TZOFFSETTO:+0200
DTSTART:19450924T030000
RDATE:19470629T030000
END:DAYLIGHT
BEGIN:STANDARD
TZNAME:CET
TZOFFSETFROM:+0100
TZOFFSETTO:+0100
DTSTART:19460101T000000
RDATE:19800101T000000
END:STANDARD
BEGIN:STANDARD
TZNAME:CET
TZOFFSETFROM:+0200
TZOFFSETTO:+0100
DTSTART:19471005T030000
RRULE:FREQ=YEARLY;UNTIL=19491002T010000Z;BYMONTH=10;BYDAY=1SU
END:STANDARD
BEGIN:STANDARD
TZNAME:CET
TZOFFSETFROM:+0200
TZOFFSETTO:+0100
DTSTART:19800928T030000
RRULE:FREQ=YEARLY;UNTIL=19950924T010000Z;BYMONTH=9;BYDAY=-1SU
END:STANDARD
BEGIN:DAYLIGHT
TZNAME:CEST
TZOFFSETFROM:+0100
TZOFFSETTO:+0200
DTSTART:19810329T020000
RRULE:FREQ=YEARLY;BYMONTH=3;BYDAY=-1SU
END:DAYLIGHT
BEGIN:STANDARD
TZNAME:CET
TZOFFSETFROM:+0200
TZOFFSETTO:+0100
DTSTART:19961027T030000
RRULE:FREQ=YEARLY;BYMONTH=10;BYDAY=-1SU
END:STANDARD
END:VTIMEZONE
BEGIN:VEVENT
DTSTAMP:20260422T021217Z
DTSTART;TZID=Europe/Berlin:20260328T140000
DTEND;TZID=Europe/Berlin:20260328T160000
SUMMARY:Intuitives Bogenschießen
CREATED:20251204T115232Z
LAST-MODIFIED:20260224T091405Z
DESCRIPTION:für Kinder und Erwachsene. Pädagogisch geführtes Bogenschieße
 n mit Recurve-Bögen auf stationären Zielscheiben (Distanz ca. 10-12 m) v
 ermittelt Fokus\, Persönlichkeitsstärke und innere Balance in der Natur.
  Dauer. 2 Stunden. \n\nTreffpunkt: Am Schäferteich\, Oberer Kurpark Bad 
 Salzhausen\n\n\nKostenbeitrag: 15 Euro/Person\, 10 Euro/Kind (7-10 Jahre
 n) – in Begleitung eines Erwachsenen.\n\nAnmeldung: Stefanie Merkl\, Tel
 . 0156 797 080 51 oder Mail: info@wildewaldlinge.de. 
LOCATION:Oberer Kurpark Bad Salzhausen
X-LOCATION-NAME:Oberer Kurpark Bad Salzhausen
X-ORGANIZER-NAME:Kur- und Touristik-Info
RRULE:FREQ=MONTHLY;UNTIL=20261024;INTERVAL=1;BYDAY=SA;BYSETPOS=3
CATEGORIES:Führung
ATTACH;FMTTYPE=image/jpeg;X-COPYRIGHT=Magistrat der Stadt Nidda:https://w
 ww.nidda.de/kultur/feste-mehr/themenfuehrungen/kinder-entdecken-die-natu
 r.jpg?cid=427.1827
UID:401ebfbe-8fdf-41a3-b0b9-0691ee0ce111
END:VEVENT
BEGIN:VEVENT
DTSTAMP:20260422T021217Z
DTSTART;TZID=Europe/Berlin:20260509T140000
DTEND;TZID=Europe/Berlin:20260509T160000
SUMMARY:Intuitives Bogenschießen
CREATED:20251204T115232Z
LAST-MODIFIED:20260224T091405Z
DESCRIPTION:für Kinder und Erwachsene. Pädagogisch geführtes Bogenschieße
 n mit Recurve-Bögen auf stationären Zielscheiben (Distanz ca. 10-12 m) v
 ermittelt Fokus\, Persönlichkeitsstärke und innere Balance in der Natur.
  Dauer. 2 Stunden. \n\nTreffpunkt: Am Schäferteich\, Oberer Kurpark Bad 
 Salzhausen\n\n\nKostenbeitrag: 15 Euro/Person\, 10 Euro/Kind (7-10 Jahre
 n) – in Begleitung eines Erwachsenen.\n\nAnmeldung: Stefanie Merkl\, Tel
 . 0156 797 080 51 oder Mail: info@wildewaldlinge.de. 
LOCATION:Oberer Kurpark Bad Salzhausen
X-LOCATION-NAME:Oberer Kurpark Bad Salzhausen
X-ORGANIZER-NAME:Kur- und Touristik-Info
CATEGORIES:Führung
ATTACH;FMTTYPE=image/jpeg;X-COPYRIGHT=Magistrat der Stadt Nidda:https://w
 ww.nidda.de/kultur/feste-mehr/themenfuehrungen/kinder-entdecken-die-natu
 r.jpg?cid=427.1827
UID:401ebfbe-8fdf-41a3-b0b9-0691ee0ce111
RECURRENCE-ID;TZID=Europe/Berlin:20260516T140000
END:VEVENT
BEGIN:VEVENT
DTSTAMP:20260422T021217Z
DTSTART;TZID=Europe/Berlin:20260725T160000
DTEND;TZID=Europe/Berlin:20260725T180000
SUMMARY:Intuitives Bogenschießen
CREATED:20251204T115232Z
LAST-MODIFIED:20260224T091405Z
DESCRIPTION:für Kinder und Erwachsene. Pädagogisch geführtes Bogenschieße
 n mit Recurve-Bögen auf stationären Zielscheiben (Distanz ca. 10-12 m) v
 ermittelt Fokus\, Persönlichkeitsstärke und innere Balance in der Natur.
  Dauer. 2 Stunden. \n\nTreffpunkt: Am Schäferteich\, Oberer Kurpark Bad 
 Salzhausen\n\n\nKostenbeitrag: 15 Euro/Person\, 10 Euro/Kind (7-10 Jahre
 n) – in Begleitung eines Erwachsenen.\n\nAnmeldung: Stefanie Merkl\, Tel
 . 0156 797 080 51 oder Mail: info@wildewaldlinge.de. 
LOCATION:Oberer Kurpark Bad Salzhausen
X-LOCATION-NAME:Oberer Kurpark Bad Salzhausen
X-ORGANIZER-NAME:Kur- und Touristik-Info
CATEGORIES:Führung
ATTACH;FMTTYPE=image/jpeg;X-COPYRIGHT=Magistrat der Stadt Nidda:https://w
 ww.nidda.de/kultur/feste-mehr/themenfuehrungen/kinder-entdecken-die-natu
 r.jpg?cid=427.1827
UID:401ebfbe-8fdf-41a3-b0b9-0691ee0ce111
RECURRENCE-ID;TZID=Europe/Berlin:20260718T140000
END:VEVENT
BEGIN:VEVENT
DTSTAMP:20260422T021217Z
DTSTART;TZID=Europe/Berlin:20260822T160000
DTEND;TZID=Europe/Berlin:20260822T180000
SUMMARY:Intuitives Bogenschießen
CREATED:20251204T115232Z
LAST-MODIFIED:20260224T091405Z
DESCRIPTION:für Kinder und Erwachsene. Pädagogisch geführtes Bogenschieße
 n mit Recurve-Bögen auf stationären Zielscheiben (Distanz ca. 10-12 m) v
 ermittelt Fokus\, Persönlichkeitsstärke und innere Balance in der Natur.
  Dauer. 2 Stunden. \n\nTreffpunkt: Am Schäferteich\, Oberer Kurpark Bad 
 Salzhausen\n\n\nKostenbeitrag: 15 Euro/Person\, 10 Euro/Kind (7-10 Jahre
 n) – in Begleitung eines Erwachsenen.\n\nAnmeldung: Stefanie Merkl\, Tel
 . 0156 797 080 51 oder Mail: info@wildewaldlinge.de. 
LOCATION:Oberer Kurpark Bad Salzhausen
X-LOCATION-NAME:Oberer Kurpark Bad Salzhausen
X-ORGANIZER-NAME:Kur- und Touristik-Info
CATEGORIES:Führung
ATTACH;FMTTYPE=image/jpeg;X-COPYRIGHT=Magistrat der Stadt Nidda:https://w
 ww.nidda.de/kultur/feste-mehr/themenfuehrungen/kinder-entdecken-die-natu
 r.jpg?cid=427.1827
UID:401ebfbe-8fdf-41a3-b0b9-0691ee0ce111
RECURRENCE-ID;TZID=Europe/Berlin:20260815T140000
END:VEVENT
BEGIN:VEVENT
DTSTAMP:20260422T021217Z
DTSTART;TZID=Europe/Berlin:20261024T160000
DTEND;TZID=Europe/Berlin:20261024T180000
SUMMARY:Intuitives Bogenschießen
CREATED:20251204T115232Z
LAST-MODIFIED:20260224T091405Z
DESCRIPTION:für Kinder und Erwachsene. Pädagogisch geführtes Bogenschieße
 n mit Recurve-Bögen auf stationären Zielscheiben (Distanz ca. 10-12 m) v
 ermittelt Fokus\, Persönlichkeitsstärke und innere Balance in der Natur.
  Dauer. 2 Stunden. \n\nTreffpunkt: Am Schäferteich\, Oberer Kurpark Bad 
 Salzhausen\n\n\nKostenbeitrag: 15 Euro/Person\, 10 Euro/Kind (7-10 Jahre
 n) – in Begleitung eines Erwachsenen.\n\nAnmeldung: Stefanie Merkl\, Tel
 . 0156 797 080 51 oder Mail: info@wildewaldlinge.de. 
LOCATION:Oberer Kurpark Bad Salzhausen
X-LOCATION-NAME:Oberer Kurpark Bad Salzhausen
X-ORGANIZER-NAME:Kur- und Touristik-Info
CATEGORIES:Führung
ATTACH;FMTTYPE=image/jpeg;X-COPYRIGHT=Magistrat der Stadt Nidda:https://w
 ww.nidda.de/kultur/feste-mehr/themenfuehrungen/kinder-entdecken-die-natu
 r.jpg?cid=427.1827
UID:401ebfbe-8fdf-41a3-b0b9-0691ee0ce111
RECURRENCE-ID;TZID=Europe/Berlin:20261017T140000
END:VEVENT
END:VCALENDAR
