BEGIN:VCALENDAR
PRODID:-//IONAS//TVM//DE
VERSION:2.0
CALSCALE:GREGORIAN
BEGIN:VTIMEZONE
TZID:Europe/Berlin
LAST-MODIFIED:20201010T011803Z
TZURL:http://tzurl.org/zoneinfo/Europe/Berlin
X-LIC-LOCATION:Europe/Berlin
X-PROLEPTIC-TZNAME:LMT
BEGIN:STANDARD
TZNAME:CET
TZOFFSETFROM:+005328
TZOFFSETTO:+0100
DTSTART:18930401T000000
END:STANDARD
BEGIN:DAYLIGHT
TZNAME:CEST
TZOFFSETFROM:+0100
TZOFFSETTO:+0200
DTSTART:19160430T230000
RDATE:19400401T020000
RDATE:19430329T020000
RDATE:19460414T020000
RDATE:19470406T030000
RDATE:19480418T020000
RDATE:19490410T020000
RDATE:19800406T020000
END:DAYLIGHT
BEGIN:STANDARD
TZNAME:CET
TZOFFSETFROM:+0200
TZOFFSETTO:+0100
DTSTART:19161001T010000
RDATE:19421102T030000
RDATE:19431004T030000
RDATE:19441002T030000
RDATE:19451118T030000
RDATE:19461007T030000
END:STANDARD
BEGIN:DAYLIGHT
TZNAME:CEST
TZOFFSETFROM:+0100
TZOFFSETTO:+0200
DTSTART:19170416T020000
RRULE:FREQ=YEARLY;UNTIL=19180415T010000Z;BYMONTH=4;BYDAY=3MO
END:DAYLIGHT
BEGIN:STANDARD
TZNAME:CET
TZOFFSETFROM:+0200
TZOFFSETTO:+0100
DTSTART:19170917T030000
RRULE:FREQ=YEARLY;UNTIL=19180916T010000Z;BYMONTH=9;BYDAY=3MO
END:STANDARD
BEGIN:DAYLIGHT
TZNAME:CEST
TZOFFSETFROM:+0100
TZOFFSETTO:+0200
DTSTART:19440403T020000
RRULE:FREQ=YEARLY;UNTIL=19450402T010000Z;BYMONTH=4;BYDAY=1MO
END:DAYLIGHT
BEGIN:DAYLIGHT
TZNAME:CEMT
TZOFFSETFROM:+0200
TZOFFSETTO:+0300
DTSTART:19450524T020000
RDATE:19470511T030000
END:DAYLIGHT
BEGIN:DAYLIGHT
TZNAME:CEST
TZOFFSETFROM:+0300
TZOFFSETTO:+0200
DTSTART:19450924T030000
RDATE:19470629T030000
END:DAYLIGHT
BEGIN:STANDARD
TZNAME:CET
TZOFFSETFROM:+0100
TZOFFSETTO:+0100
DTSTART:19460101T000000
RDATE:19800101T000000
END:STANDARD
BEGIN:STANDARD
TZNAME:CET
TZOFFSETFROM:+0200
TZOFFSETTO:+0100
DTSTART:19471005T030000
RRULE:FREQ=YEARLY;UNTIL=19491002T010000Z;BYMONTH=10;BYDAY=1SU
END:STANDARD
BEGIN:STANDARD
TZNAME:CET
TZOFFSETFROM:+0200
TZOFFSETTO:+0100
DTSTART:19800928T030000
RRULE:FREQ=YEARLY;UNTIL=19950924T010000Z;BYMONTH=9;BYDAY=-1SU
END:STANDARD
BEGIN:DAYLIGHT
TZNAME:CEST
TZOFFSETFROM:+0100
TZOFFSETTO:+0200
DTSTART:19810329T020000
RRULE:FREQ=YEARLY;BYMONTH=3;BYDAY=-1SU
END:DAYLIGHT
BEGIN:STANDARD
TZNAME:CET
TZOFFSETFROM:+0200
TZOFFSETTO:+0100
DTSTART:19961027T030000
RRULE:FREQ=YEARLY;BYMONTH=10;BYDAY=-1SU
END:STANDARD
END:VTIMEZONE
BEGIN:VEVENT
DTSTAMP:20260421T024402Z
DTSTART;TZID=Europe/Berlin:20260508T143000
DTEND;TZID=Europe/Berlin:20260508T160000
SUMMARY:Natürlich im Gleichgewicht
CREATED:20260224T100113Z
LAST-MODIFIED:20260224T101321Z
DESCRIPTION:Fußgesundheit nach Kneipp. Es lohnt sich\, den Blick einmal a
 uf die Füße zu richten – du lernst mit Henriette Walther\, Physiotherape
 utin und Kneipp-Gesundheitstrainerin\, Möglichkeiten kennen\, wie du neu
 e Ressourcen entdecken und damit deine Gesundheit ganzheitlich fördern k
 annst. Zitat Kneipp: „Der Beste Weg zur Gesundheit ist der Fußweg.“ Daue
 r: 1\,5 Stunden. Kostenbeitrag: 10 Euro/Person. Anmeldung: Henriette Wal
 ther\, Tel. 0152 32708935 oder Mail: henriettewalther73@gmail.com. \n\nT
 reffpunkt: am Parksaal\, Im Park\, 63667 Nidda - Bad Salzhausen\n\n\nKos
 tenbeitrag: 10\,00 € pro Person\n\n\nAnmeldung: Henriette Walther\, Tel.
  0152 32708935 oder Mail: henriettewalther73@gmail.com
LOCATION:Parksaal 
X-LOCATION-NAME:Parksaal 
X-POSTAL-CODE:63667
X-LOCALITY:Nidda - Bad Salzhausen
X-ORGANIZER-NAME:Kunst:Projekt e.V. Nidda - Bad Salzhausen
X-ORGANIZER-WEBSITE:http://www.kunst-projekt.de/
X-IONAS-CATEGORY:Highlight
CATEGORIES:Highlight,Führung
ATTACH;FMTTYPE=image/jpeg:https://www.nidda.de/kultur/feste-mehr/themenfu
 ehrungen/fuesse-db202551.jpg?cid=1dtg.h0e1
UID:9503b2ea-b86b-4f43-8bb1-a279b640f37f:2026-05-08
END:VEVENT
END:VCALENDAR
